0.2500000000
0.0000000000
0.0000000000
-0.2500000000
486231.3750000000
375479.1250000000
