0.2500000000
0.0000000000
0.0000000000
-0.2500000000
482789.1250000000
373328.6250000000
