0.2500000000
0.0000000000
0.0000000000
-0.2500000000
482874.8750000000
375605.1250000000
