0.2500000000
0.0000000000
0.0000000000
-0.2500000000
479432.3750000000
373455.3750000000
