0.2500000000
0.0000000000
0.0000000000
-0.2500000000
479518.3750000000
375731.8750000000
