0.2500000000
0.0000000000
0.0000000000
-0.2500000000
476075.3750000000
373582.3750000000
