0.2500000000
0.0000000000
0.0000000000
-0.2500000000
476161.6250000000
375858.8750000000
