0.2500000000
0.0000000000
0.0000000000
-0.2500000000
472718.6250000000
373709.8750000000
