0.2500000000
0.0000000000
0.0000000000
-0.2500000000
472805.1250000000
375986.3750000000
