0.2500000000
0.0000000000
0.0000000000
-0.2500000000
486316.6250000000
377755.8750000000
