0.2500000000
0.0000000000
0.0000000000
-0.2500000000
486402.1250000000
380032.3750000000
