0.2500000000
0.0000000000
0.0000000000
-0.2500000000
482960.6250000000
377881.8750000000
