0.2500000000
0.0000000000
0.0000000000
-0.2500000000
483046.1250000000
380158.3750000000
