0.2500000000
0.0000000000
0.0000000000
-0.2500000000
479604.3750000000
378008.3750000000
