0.2500000000
0.0000000000
0.0000000000
-0.2500000000
479690.3750000000
380284.8750000000
