0.2500000000
0.0000000000
0.0000000000
-0.2500000000
476248.1250000000
378135.3750000000
