0.2500000000
0.0000000000
0.0000000000
-0.2500000000
476334.3750000000
380411.8750000000
