0.2500000000
0.0000000000
0.0000000000
-0.2500000000
472891.8750000000
378262.8750000000
