0.2500000000
0.0000000000
0.0000000000
-0.2500000000
472978.6250000000
380539.3750000000
