0.2500000000
0.0000000000
0.0000000000
-0.2500000000
522503.1250000000
355913.3750000000
