0.2500000000
0.0000000000
0.0000000000
-0.2500000000
511681.8750000000
335786.1250000000
