0.2500000000
0.0000000000
0.0000000000
-0.2500000000
508319.1250000000
335908.3750000000
