0.2500000000
0.0000000000
0.0000000000
-0.2500000000
508402.1250000000
338184.8750000000
