0.2500000000
0.0000000000
0.0000000000
-0.2500000000
504956.6250000000
336030.8750000000
