0.2500000000
0.0000000000
0.0000000000
-0.2500000000
505039.8750000000
338307.6250000000
