0.2500000000
0.0000000000
0.0000000000
-0.2500000000
511929.3750000000
342616.1250000000
