0.2500000000
0.0000000000
0.0000000000
-0.2500000000
508567.8750000000
342738.3750000000
