0.2500000000
0.0000000000
0.0000000000
-0.2500000000
505206.1250000000
342860.8750000000
