0.2500000000
0.0000000000
0.0000000000
-0.2500000000
515455.3750000000
347048.1250000000
