0.2500000000
0.0000000000
0.0000000000
-0.2500000000
512011.8750000000
344892.8750000000
