0.2500000000
0.0000000000
0.0000000000
-0.2500000000
512094.3750000000
347169.6250000000
