0.2500000000
0.0000000000
0.0000000000
-0.2500000000
508650.6250000000
345015.1250000000
