0.2500000000
0.0000000000
0.0000000000
-0.2500000000
508733.6250000000
347291.6250000000
