0.2500000000
0.0000000000
0.0000000000
-0.2500000000
505289.3750000000
345137.6250000000
