0.2500000000
0.0000000000
0.0000000000
-0.2500000000
505372.6250000000
347414.3750000000
