0.2500000000
0.0000000000
0.0000000000
-0.2500000000
518979.8750000000
351480.3750000000
