0.2500000000
0.0000000000
0.0000000000
-0.2500000000
515537.6250000000
349324.6250000000
