0.2500000000
0.0000000000
0.0000000000
-0.2500000000
515619.6250000000
351601.3750000000
