0.2500000000
0.0000000000
0.0000000000
-0.2500000000
512176.8750000000
349446.3750000000
