0.2500000000
0.0000000000
0.0000000000
-0.2500000000
512259.3750000000
351722.8750000000
