0.2500000000
0.0000000000
0.0000000000
-0.2500000000
508816.3750000000
349568.3750000000
