0.2500000000
0.0000000000
0.0000000000
-0.2500000000
508899.3750000000
351845.1250000000
