0.2500000000
0.0000000000
0.0000000000
-0.2500000000
505455.8750000000
349690.8750000000
