0.2500000000
0.0000000000
0.0000000000
-0.2500000000
505539.1250000000
351967.6250000000
