0.2500000000
0.0000000000
0.0000000000
-0.2500000000
519061.8750000000
353757.1250000000
