0.2500000000
0.0000000000
0.0000000000
-0.2500000000
519143.6250000000
356033.8750000000
