0.2500000000
0.0000000000
0.0000000000
-0.2500000000
515701.8750000000
353878.1250000000
