0.2500000000
0.0000000000
0.0000000000
-0.2500000000
515784.1250000000
356154.8750000000
