0.2500000000
0.0000000000
0.0000000000
-0.2500000000
512342.1250000000
353999.6250000000
