0.2500000000
0.0000000000
0.0000000000
-0.2500000000
512424.6250000000
356276.3750000000
